BEGIN:VCALENDAR
VERSION:2.0
PRODID:-//MENTSH UNITED - ECPv6.15.20//NONSGML v1.0//EN
CALSCALE:GREGORIAN
METHOD:PUBLISH
X-WR-CALNAME:MENTSH UNITED
X-ORIGINAL-URL:https://mentsh.eu
X-WR-CALDESC:Veranstaltungen für MENTSH UNITED
REFRESH-INTERVAL;VALUE=DURATION:PT1H
X-Robots-Tag:noindex
X-PUBLISHED-TTL:PT1H
BEGIN:VTIMEZONE
TZID:Europe/Berlin
BEGIN:DAYLIGHT
TZOFFSETFROM:+0100
TZOFFSETTO:+0200
TZNAME:CEST
DTSTART:20250330T010000
END:DAYLIGHT
BEGIN:STANDARD
TZOFFSETFROM:+0200
TZOFFSETTO:+0100
TZNAME:CET
DTSTART:20251026T010000
END:STANDARD
BEGIN:DAYLIGHT
TZOFFSETFROM:+0100
TZOFFSETTO:+0200
TZNAME:CEST
DTSTART:20260329T010000
END:DAYLIGHT
BEGIN:STANDARD
TZOFFSETFROM:+0200
TZOFFSETTO:+0100
TZNAME:CET
DTSTART:20261025T010000
END:STANDARD
BEGIN:DAYLIGHT
TZOFFSETFROM:+0100
TZOFFSETTO:+0200
TZNAME:CEST
DTSTART:20270328T010000
END:DAYLIGHT
BEGIN:STANDARD
TZOFFSETFROM:+0200
TZOFFSETTO:+0100
TZNAME:CET
DTSTART:20271031T010000
END:STANDARD
END:VTIMEZONE
BEGIN:VEVENT
DTSTART;TZID=Europe/Berlin:20260508T173000
DTEND;TZID=Europe/Berlin:20260508T200000
DTSTAMP:20260426T032752
CREATED:20260113T082105Z
LAST-MODIFIED:20260327T110501Z
UID:7421-1778261400-1778270400@mentsh.eu
SUMMARY:MENTSH UNITED feat. SHANTEL | Frankfurt am Main
DESCRIPTION:Im Herzen von Europa\n\n\n\n\n\nMASSIF EUROPE\npräsentiert\nMENTSH UNITED feat. SHANTEL\nFr. 8 Mai 2026\n18 bis 20 Uhr\nMassif Central im Bethmannhof\nBethmannstraße 7-9\n60311 Frankfurt am Main\n\n\n\n\n\n👉 Eintritt frei\n\n\nDas Konzert findet am Vorabend des Europatags 2026 in der Europastadt Frankfurt am Main statt. Den Beinamen Europastadt tragen Städte\, die sich dem Gedanken der europäischen Verständigung besonders verpflichtet fühlen – geradezu perfekt für uns!  Kommt also vorbei\, erlebt unser Ensemble hautnah und tanzt mit uns für Freiheit\, Vielfalt und die europäische Idee. \n  \n 
URL:https://mentsh.eu/veranstaltung/mentsh-united-feat-shantel-frankfurt-am-main/
LOCATION:Massif Central\, Bethmannstraße 7-9\, Frankfurt am Main\, 60311\, Germany
CATEGORIES:Musik
ATTACH;FMTTYPE=image/jpeg:https://mentsh.eu/wp-content/uploads/2026/01/Tour-2026-updated.jpg
END:VEVENT
BEGIN:VEVENT
DTSTART;TZID=Europe/Berlin:20260510T183000
DTEND;TZID=Europe/Berlin:20260510T233000
DTSTAMP:20260426T032752
CREATED:20251127T130432Z
LAST-MODIFIED:20260327T114404Z
UID:7310-1778437800-1778455800@mentsh.eu
SUMMARY:MENTSH UNITED feat. SHANTEL | Friedrichshafen
DESCRIPTION:MENTSH UNITED feat. SHANTEL  10.05.26 in Friedrichshafen\, Kulturraum Casino \n\n\n\n\n\n\n Sonntag 10.05.26\n\n\n Einlass: 18:30 Uhr\, Beginn: 19:30 Uhr\n\n\n Kulturraum Casino\,  Fallenbrunnen 17\, 88045 Friedrichshafen \n\n\n\n\n\nTickets sind bereits im Vorverkauf erhältlich.
URL:https://mentsh.eu/veranstaltung/mentsh-united-feat-shantel-friedrichshafen/
LOCATION:Kulturhaus Caserne\, Fallenbrunnen 17\, Friedrichshafen\, 88045\, Germany
CATEGORIES:Musik
ATTACH;FMTTYPE=image/jpeg:https://mentsh.eu/wp-content/uploads/2026/01/Tour-2026-updated.jpg
END:VEVENT
BEGIN:VEVENT
DTSTART;TZID=Europe/Berlin:20260512T190000
DTEND;TZID=Europe/Berlin:20260512T233000
DTSTAMP:20260426T032752
CREATED:20260113T100817Z
LAST-MODIFIED:20260327T114155Z
UID:7424-1778612400-1778628600@mentsh.eu
SUMMARY:MENTSH UNITED feat. SHANTEL | Freiburg
DESCRIPTION:Beginn: 20:00 Uhr \nEinlass: 19:00 Uhr \nStehplatz \nVVK: € 27\,40 (inkl. VVK-Gebühr) \nAK: € 30\,00 \nTickets sind bereits im Vorverkauf erhältlich.
URL:https://mentsh.eu/veranstaltung/mentsh-united-feat-shantel-freiburg/
LOCATION:Jazzhaus Freiburg\, Schnewlinstraße 1\, Freiburg\, 79098\, Germany
CATEGORIES:Musik
ATTACH;FMTTYPE=image/jpeg:https://mentsh.eu/wp-content/uploads/2026/01/Tour-2026-updated.jpg
END:VEVENT
END:VCALENDAR