BEGIN:VCALENDAR
VERSION:2.0
PRODID:-//MENTSH UNITED - ECPv6.15.20//NONSGML v1.0//EN
CALSCALE:GREGORIAN
METHOD:PUBLISH
X-WR-CALNAME:MENTSH UNITED
X-ORIGINAL-URL:https://mentsh.eu
X-WR-CALDESC:Veranstaltungen für MENTSH UNITED
REFRESH-INTERVAL;VALUE=DURATION:PT1H
X-Robots-Tag:noindex
X-PUBLISHED-TTL:PT1H
BEGIN:VTIMEZONE
TZID:Europe/Berlin
BEGIN:DAYLIGHT
TZOFFSETFROM:+0100
TZOFFSETTO:+0200
TZNAME:CEST
DTSTART:20250330T010000
END:DAYLIGHT
BEGIN:STANDARD
TZOFFSETFROM:+0200
TZOFFSETTO:+0100
TZNAME:CET
DTSTART:20251026T010000
END:STANDARD
BEGIN:DAYLIGHT
TZOFFSETFROM:+0100
TZOFFSETTO:+0200
TZNAME:CEST
DTSTART:20260329T010000
END:DAYLIGHT
BEGIN:STANDARD
TZOFFSETFROM:+0200
TZOFFSETTO:+0100
TZNAME:CET
DTSTART:20261025T010000
END:STANDARD
BEGIN:DAYLIGHT
TZOFFSETFROM:+0100
TZOFFSETTO:+0200
TZNAME:CEST
DTSTART:20270328T010000
END:DAYLIGHT
BEGIN:STANDARD
TZOFFSETFROM:+0200
TZOFFSETTO:+0100
TZNAME:CET
DTSTART:20271031T010000
END:STANDARD
END:VTIMEZONE
BEGIN:VEVENT
DTSTART;TZID=Europe/Berlin:20260426T200000
DTEND;TZID=Europe/Berlin:20260426T230000
DTSTAMP:20260426T014650
CREATED:20260327T102115Z
LAST-MODIFIED:20260327T103401Z
UID:7841-1777233600-1777244400@mentsh.eu
SUMMARY:ALL ABOUT THE LEVKOVICHES | 60sec.mentsh @Paul Spiegel Film Festival
DESCRIPTION:Wir freuen uns sehr\, dass „60sec.mentsh“ Teil des 18. Paul–Spiegel–Filmfestivals „Jewish Worlds“ ist\, das vom 16. bis 26. April 2026 an der UCI Düsseldorf und in der Blackbox im Filmmuseum stattfindet. Die Filme werden als Kurzfilme vor den Hauptfilmen gezeigt. \nDas Festival vereint aktuelle internationale Produktionen wie „The Disappearance of Josef Mengele“\, „All About the Levkoviches“ und „With Love and Chansons“ und zeigt die Kreativität und Vielfalt\, mit der das jüdische Leben auf der Leinwand dargestellt wird. \n\n\nAll About the Levkoviches\n\n\nDRAMA/KOMÖDIE\, 85 Min\, 2024\n\n\nUngarisch\, hebräisch mit dt. Untertiteln \nGewinner von Sofia International Film Festival \n\n\nRegie von Ádám Breier \nDrehbuch von Ádám Breier\, Bálint Csaba \nMusik von Albert Márkos \nHauptbesetzung: Zoltán Bezerédi\, Tamás Szabó Kimmel\, Leo Gagel \n\n\nSonntag\, 26. April 202620 Uhr\, Black Box\n\n\nDer ungarische Spielfilm „All About the Levkoviches“ erzählt mit  Humor und viel Wärme von einer jüdischen Familie auf dem schwierigen Weg zur Versöhnung. Tamás\, ein eigensinniger Boxtrainer in Budapest\, hat seit Jahren keinen Kontakt mehr zu seinem Sohn Iván\, der nach Israel gegangen ist und in einer orthodoxen Gemeinde lebt. Als Tamás’ Frau Zsuzsa unerwartet stirbt\, kehren Iván und sein Sohn Ariel zurück\, um im Elternhaus Schiwa zu sitzen. In der Enge der Wohnung brechen alte Konflikte wieder auf\, während der Enkel sich seinem Großvater und dem Boxen annähert. Es entsteht ein berührendes Familienporträt über Glauben\, generationsübergreifende Verletzungen und die Chance\, einander neu zu begegnen. \n\n👉 Tickets \n\n\n  \n 
URL:https://mentsh.eu/veranstaltung/60sec-mentsh-paul-spiegel-film-festival-all-about-the-levkoviches/
LOCATION:Blackbox\, Schulstr. 4\, Düsseldorf\, 40213\, Germany
CATEGORIES:Film
ATTACH;FMTTYPE=image/png:https://mentsh.eu/wp-content/uploads/2026/03/60sec-PSF-scaled.png
END:VEVENT
END:VCALENDAR