BEGIN:VCALENDAR
VERSION:2.0
PRODID:-//MENTSH UNITED - ECPv6.15.20//NONSGML v1.0//EN
CALSCALE:GREGORIAN
METHOD:PUBLISH
X-WR-CALNAME:MENTSH UNITED
X-ORIGINAL-URL:https://mentsh.eu/it
X-WR-CALDESC:Eventi per MENTSH UNITED
REFRESH-INTERVAL;VALUE=DURATION:PT1H
X-Robots-Tag:noindex
X-PUBLISHED-TTL:PT1H
BEGIN:VTIMEZONE
TZID:Europe/Berlin
BEGIN:DAYLIGHT
TZOFFSETFROM:+0100
TZOFFSETTO:+0200
TZNAME:CEST
DTSTART:20250330T010000
END:DAYLIGHT
BEGIN:STANDARD
TZOFFSETFROM:+0200
TZOFFSETTO:+0100
TZNAME:CET
DTSTART:20251026T010000
END:STANDARD
BEGIN:DAYLIGHT
TZOFFSETFROM:+0100
TZOFFSETTO:+0200
TZNAME:CEST
DTSTART:20260329T010000
END:DAYLIGHT
BEGIN:STANDARD
TZOFFSETFROM:+0200
TZOFFSETTO:+0100
TZNAME:CET
DTSTART:20261025T010000
END:STANDARD
BEGIN:DAYLIGHT
TZOFFSETFROM:+0100
TZOFFSETTO:+0200
TZNAME:CEST
DTSTART:20270328T010000
END:DAYLIGHT
BEGIN:STANDARD
TZOFFSETFROM:+0200
TZOFFSETTO:+0100
TZNAME:CET
DTSTART:20271031T010000
END:STANDARD
END:VTIMEZONE
BEGIN:VEVENT
DTSTART;TZID=Europe/Berlin:20260508T173000
DTEND;TZID=Europe/Berlin:20260508T200000
DTSTAMP:20260425T215820
CREATED:20260113T082105Z
LAST-MODIFIED:20260327T110501Z
UID:7421-1778261400-1778270400@mentsh.eu
SUMMARY:MENTSH UNITED feat. SHANTEL | Frankfurt am Main
DESCRIPTION:Im Herzen von Europa\n\n\n\n\n\nMASSIF EUROPE\npräsentiert\nMENTSH UNITED feat. SHANTEL\nFr. 8 Mai 2026\n18 bis 20 Uhr\nMassif Central im Bethmannhof\nBethmannstraße 7-9\n60311 Frankfurt am Main\n\n\n\n\n\n👉 Eintritt frei\n\n\nDas Konzert findet am Vorabend des Europatags 2026 in der Europastadt Frankfurt am Main statt. Den Beinamen Europastadt tragen Städte\, die sich dem Gedanken der europäischen Verständigung besonders verpflichtet fühlen – geradezu perfekt für uns!  Kommt also vorbei\, erlebt unser Ensemble hautnah und tanzt mit uns für Freiheit\, Vielfalt und die europäische Idee. \n  \n 
URL:https://mentsh.eu/it/veranstaltung/mentsh-united-feat-shantel-frankfurt-am-main/
LOCATION:Massif Central\, Bethmannstraße 7-9\, Frankfurt am Main\, 60311\, Germany
CATEGORIES:Musik
ATTACH;FMTTYPE=image/jpeg:https://mentsh.eu/wp-content/uploads/2026/01/Tour-2026-updated.jpg
END:VEVENT
BEGIN:VEVENT
DTSTART;TZID=Europe/Berlin:20260510T183000
DTEND;TZID=Europe/Berlin:20260510T233000
DTSTAMP:20260425T215820
CREATED:20251127T130432Z
LAST-MODIFIED:20260327T114404Z
UID:7310-1778437800-1778455800@mentsh.eu
SUMMARY:MENTSH UNITED feat. SHANTEL | Friedrichshafen
DESCRIPTION:MENTSH UNITED feat. SHANTEL  10.05.26 in Friedrichshafen\, Kulturraum Casino \n\n\n\n\n\n\n Sonntag 10.05.26\n\n\n Einlass: 18:30 Uhr\, Beginn: 19:30 Uhr\n\n\n Kulturraum Casino\,  Fallenbrunnen 17\, 88045 Friedrichshafen \n\n\n\n\n\nTickets sind bereits im Vorverkauf erhältlich.
URL:https://mentsh.eu/it/veranstaltung/mentsh-united-feat-shantel-friedrichshafen/
LOCATION:Kulturhaus Caserne\, Fallenbrunnen 17\, Friedrichshafen\, 88045\, Germany
CATEGORIES:Musik
ATTACH;FMTTYPE=image/jpeg:https://mentsh.eu/wp-content/uploads/2026/01/Tour-2026-updated.jpg
END:VEVENT
BEGIN:VEVENT
DTSTART;TZID=Europe/Berlin:20260512T190000
DTEND;TZID=Europe/Berlin:20260512T233000
DTSTAMP:20260425T215820
CREATED:20260113T100817Z
LAST-MODIFIED:20260327T114155Z
UID:7424-1778612400-1778628600@mentsh.eu
SUMMARY:MENTSH UNITED feat. SHANTEL | Freiburg
DESCRIPTION:Beginn: 20:00 Uhr \nEinlass: 19:00 Uhr \nStehplatz \nVVK: € 27\,40 (inkl. VVK-Gebühr) \nAK: € 30\,00 \nTickets sind bereits im Vorverkauf erhältlich.
URL:https://mentsh.eu/it/veranstaltung/mentsh-united-feat-shantel-freiburg/
LOCATION:Jazzhaus Freiburg\, Schnewlinstraße 1\, Freiburg\, 79098\, Germany
CATEGORIES:Musik
ATTACH;FMTTYPE=image/jpeg:https://mentsh.eu/wp-content/uploads/2026/01/Tour-2026-updated.jpg
END:VEVENT
BEGIN:VEVENT
DTSTART;VALUE=DATE:20260614
DTEND;VALUE=DATE:20260615
DTSTAMP:20260425T215820
CREATED:20260113T102814Z
LAST-MODIFIED:20260327T111208Z
UID:7426-1781395200-1781481599@mentsh.eu
SUMMARY:MENTSH UNITED feat. SHANTEL | Lübeck @Superkunstfestival
DESCRIPTION:Wir spielen mit MENTSH UNITED feat. SHANTEL auf dem SUPERKUNSTFESTIVAL \n \nDas Festival findet statt vom 12. – 14.06. in Lübeck. \nBereits bestätigte Bands: \n\nSportfreunde Stiller\nMonsters of Liedermaching\nJuli\nMoop Mama\nMENTSH UNITED feat. SHANTEL\n…\n\nAlle Infos rund um das Festival findest du hier: https://www.superkunstfestival.de/ \n  \nHier geht es zum offiziellen Festivalticketverkauf: https://www.superkunstfestival.de/tickets/ \nNeben regulären Festivaltickets gibt es dort auch Tageskarten\, Familienkarten und weitere Ermäßigungen. \n  \n  \n 
URL:https://mentsh.eu/it/veranstaltung/mentsh-united-feat-shantel-luebeck-superkunstfestival/
LOCATION:KULTURAKADEMIE der DIAKONIE NORD·NORD·OST\, Triftstraße 139a\, Lübeck\, 23554\, Germany
CATEGORIES:Musik
ATTACH;FMTTYPE=image/jpeg:https://mentsh.eu/wp-content/uploads/2026/01/Tour-2026-updated.jpg
END:VEVENT
BEGIN:VEVENT
DTSTART;TZID=Europe/Berlin:20260616T190000
DTEND;TZID=Europe/Berlin:20260616T230000
DTSTAMP:20260425T215820
CREATED:20260126T071828Z
LAST-MODIFIED:20260331T083457Z
UID:7632-1781636400-1781650800@mentsh.eu
SUMMARY:MENTSH UNITED feat. SHANTEL | Halle (Saale)
DESCRIPTION:Im Rahmen des Festivals für zeigenössische Musik KlangArt Vision tritt MENTSH UNITED feat. SHANTEL in der Georg-Friedrich-Händel Halle in Halle (Saale) auf. \nMehr Informationen finden sich hier: https://klangart-vision.de/konzerte/2026-06-16-mentsh-united-feat-shantel/ \n—- \nÜber das Festival: \nKlangART Vision \n\nDas Festival KlangART Vision engagiert sich im Bereich der zeitgenössischen Musik und stellt dabei das musikalische Schaffen in Sachsen-Anhalt in den Mittelpunkt. Das Festival verpflichtet sich jedoch weder einem Genre noch einem Ort\, sondern will vielmehr „Brücken bauen“\, neue Räume für Musik eröffnen und ungewöhnliche Begegnungen zwischen Musikern und ihrem Publikum ermöglichen. Dabei bestehen wir auf einen eher unkonventionellen Blick auf die zeitgenössische Musik\, den wir unserer\, auch medialen Öffentlichkeit präsentieren. \nFür ein vielfältiges Publikum mit jungen Talenten\, Künstler*innen der Region und international bekannten Ensembles. An verschiedenen Orten in Sachsen-Anhalt. \nDie KlangART Vision ist ein Projekt der International Academy of Media & Arts e.V. (IAMA) in Halle. Der Verein versteht sich als Mittler zwischen Kunstschaffenden und Medien. Neben der KlangART Vision initiiert der Verein professionelle Weiterbildungen für Filmschaffende und ist Initiator sowie Ausrichter der Filmmusiktage Sachsen-Anhalt und des Deutschen Filmmusikpreises. \n\n  \n 
URL:https://mentsh.eu/it/veranstaltung/mentsh-united-feat-shantel-halle/
LOCATION:Georg-Friedrich-Händel-Halle\, Salzgrafenpl. 1\, Halle (Saale)\, 06108
CATEGORIES:Musik
ATTACH;FMTTYPE=image/jpeg:https://mentsh.eu/wp-content/uploads/2026/01/Tour-2026-updated.jpg
END:VEVENT
BEGIN:VEVENT
DTSTART;TZID=Europe/Berlin:20260622T183000
DTEND;TZID=Europe/Berlin:20260622T223000
DTSTAMP:20260425T215820
CREATED:20260327T094351Z
LAST-MODIFIED:20260327T110828Z
UID:7816-1782153000-1782167400@mentsh.eu
SUMMARY:MENTSH UNITED feat. SHANTEL | Brüssel
DESCRIPTION:We are greatly honoured that the State Government of North Rhine-Westphalia and the Rhine-Ruhr Metropolitan Region have welcomed us to the 2026 Summer Festival in Brussels. \nThe concert will take place on Monday\, 22 June 2026\,at the Representation of the State of North Rhine-Westphalia to the EU\, Rue de Montoyer 47\, 1000 Brussels\, Belgium. \nWe are delighted to champion the European ideal through music. \nCome along\, dance with us\, and join us in celebrating democracy and democratic values.
URL:https://mentsh.eu/it/veranstaltung/mentsh-united-feat-shantel-brussels/
LOCATION:Vertretung des Landes Nordrhein-Westfalen EU\, Rue de Montoyer 47\, Brüssel\, 1000\, Belgium
CATEGORIES:Musik
ATTACH;FMTTYPE=image/jpeg:https://mentsh.eu/wp-content/uploads/2026/01/Tour-2026-updated.jpg
END:VEVENT
BEGIN:VEVENT
DTSTART;TZID=Europe/Berlin:20260726T213000
DTEND;TZID=Europe/Berlin:20260726T233000
DTSTAMP:20260425T215820
CREATED:20260113T103059Z
LAST-MODIFIED:20260327T110757Z
UID:7429-1785101400-1785108600@mentsh.eu
SUMMARY:MENTSH UNITED feat. SHANTEL | Pisa @Monte Pisano Art Festival
DESCRIPTION:weitere Infos folgen in Kürze
URL:https://mentsh.eu/it/veranstaltung/mentsh-united-feat-shantel-monte-pisano-art-festival/
CATEGORIES:Musik
ATTACH;FMTTYPE=image/jpeg:https://mentsh.eu/wp-content/uploads/2026/01/Tour-2026-updated.jpg
END:VEVENT
BEGIN:VEVENT
DTSTART;TZID=Europe/Berlin:20260727T213000
DTEND;TZID=Europe/Berlin:20260727T233000
DTSTAMP:20260425T215820
CREATED:20260327T105032Z
LAST-MODIFIED:20260327T110606Z
UID:7851-1785187800-1785195000@mentsh.eu
SUMMARY:MENTSH UNITED feat. SHANTEL | Chianni
DESCRIPTION:Wir kehren zurück nach Chianni und laden ein zur Celebrazione auf der Piazza.  \nOpen Air Konzert in Chiannia\, Toskana / Italien. \nmehr Infos in Kürze
URL:https://mentsh.eu/it/veranstaltung/mentsh-united-feat-shantel-chianni/
LOCATION:Chianni\, Piazza della Chiesa\, 34\,\, Chianni PI\, 56034\, Italy
CATEGORIES:Musik
ATTACH;FMTTYPE=image/jpeg:https://mentsh.eu/wp-content/uploads/2026/01/Tour-2026-updated.jpg
END:VEVENT
END:VCALENDAR